BEGIN:VCALENDAR
VERSION:2.0
PRODID:-//Bristol Owners and Drivers Association - ECPv6.15.13.1//NONSGML v1.0//EN
CALSCALE:GREGORIAN
METHOD:PUBLISH
X-ORIGINAL-URL:https://bristoloda.org
X-WR-CALDESC:Events for Bristol Owners and Drivers Association
REFRESH-INTERVAL;VALUE=DURATION:PT1H
X-Robots-Tag:noindex
X-PUBLISHED-TTL:PT1H
BEGIN:VTIMEZONE
TZID:Europe/Amsterdam
BEGIN:DAYLIGHT
TZOFFSETFROM:+0100
TZOFFSETTO:+0200
TZNAME:CEST
DTSTART:20250330T010000
END:DAYLIGHT
BEGIN:STANDARD
TZOFFSETFROM:+0200
TZOFFSETTO:+0100
TZNAME:CET
DTSTART:20251026T010000
END:STANDARD
BEGIN:DAYLIGHT
TZOFFSETFROM:+0100
TZOFFSETTO:+0200
TZNAME:CEST
DTSTART:20260329T010000
END:DAYLIGHT
BEGIN:STANDARD
TZOFFSETFROM:+0200
TZOFFSETTO:+0100
TZNAME:CET
DTSTART:20261025T010000
END:STANDARD
BEGIN:DAYLIGHT
TZOFFSETFROM:+0100
TZOFFSETTO:+0200
TZNAME:CEST
DTSTART:20270328T010000
END:DAYLIGHT
BEGIN:STANDARD
TZOFFSETFROM:+0200
TZOFFSETTO:+0100
TZNAME:CET
DTSTART:20271031T010000
END:STANDARD
END:VTIMEZONE
BEGIN:VEVENT
DTSTART;VALUE=DATE:20260627
DTEND;VALUE=DATE:20260628
DTSTAMP:20260420T105926
CREATED:20260310T111004Z
LAST-MODIFIED:20260408T154418Z
UID:10000117-1782518400-1782604799@bristoloda.org
SUMMARY:The Moat\, Wrotham\, Kent
DESCRIPTION:Bristols will be a featured marque at this breakfast meeting of the Kent Classic and Sportscar Club at The Moat\, Wrotham\, Kent TN15 7RJ from 9-11 a.m. We will share the limelight with vintage cars on this occasion. These events are usually well attended\, especially in the summer months. \nAfterwards I propose a drive through Kent to the historic Cinque Port of Sandwich where we will park on the quay and have lunch in a local pub restaurant\, with an opportunity to look around the town. In the afternoon\, on the way back we have been kindly invited by a BOC member to view his extensive car collection which includes Bristols\, rare and interesting Peugeots\, Lancias and Rovers. This promises to be a treat for all car lovers and in a special setting. \nPlease let me know if you would like to attend so that I can have an idea of numbers for lunch and for the afternoon visit\, to iain.johncock@gmail.com .
URL:https://bristoloda.org/event/the-moat-wrotham-kent/
CATEGORIES:Calender,Events,General News,News
ORGANIZER;CN="Iain Johncock":MAILTO:iain.johncock@gmail.com
END:VEVENT
END:VCALENDAR